BEGIN:VCALENDAR
VERSION:2.0
PRODID:-//OneGov//onegov.event//
BEGIN:VEVENT
SUMMARY:Filmclub für 6- bis 12-jährige - Die Zauberlaterne
DTSTART:20250913T080000Z
DTEND:20250913T090000Z
DTSTAMP:20250728T051745Z
UID:filmclub-fuer-6-bis-12-jaehrige-die-zauberlaterne-1-2025-09-13@onegov.
 event
CATEGORIES:Art,Misc,Youth,Cinema,Culture
DESCRIPTION:Jedes Jahr bietet die Zauberlaterne Kindern von 6 bis 12 Jahre
 n ein neues Programm von neun Filmen zu einem erschwinglichen Preis. Die V
 orführungen werden spielerisch pädagogisch eingerahmt. Vor der Vorstellu
 ng erhalten alle Mitglieder eine illustrierte Klubzeitschrift\, deren Lekt
 üre sie auf den jeweiligen Film vorbereitet. Im Kinosaal führen eine int
 eraktive Moderation und eine szenische Einführung die Kinder in den jewei
 ligen Film ein.\n\nBei der Zauberlaterne teilen die Kinder die grossen Kin
 ogefühle mit ihren Kameraden und entwickeln zusammen ihren kritischen Sin
 n. Die Filmvorführungen finden ohne Eltern statt\, die Kinder werden jedo
 ch von Helfern betreut. Die Zauberlaterne bietet jährlich ein neues Filmp
 rogramm mit den besten Kinofilmen der Filmgeschichte.\n
GEO:47.056906;8.311084
LAST-MODIFIED:20250728T051745Z
LOCATION:Bourbaki Kino\, Löwenpl. 11\, 6004 Luzern
URL:https://www.ebikon.ch/event/filmclub-fuer-6-bis-12-jaehrige-die-zauber
 laterne-1-2025-09-13
END:VEVENT
BEGIN:VEVENT
SUMMARY:Filmclub für 6- bis 12-jährige - Die Zauberlaterne
DTSTART:20251025T080000Z
DTEND:20251025T090000Z
DTSTAMP:20250728T051745Z
UID:filmclub-fuer-6-bis-12-jaehrige-die-zauberlaterne-1-2025-10-25@onegov.
 event
CATEGORIES:Art,Misc,Youth,Cinema,Culture
DESCRIPTION:Jedes Jahr bietet die Zauberlaterne Kindern von 6 bis 12 Jahre
 n ein neues Programm von neun Filmen zu einem erschwinglichen Preis. Die V
 orführungen werden spielerisch pädagogisch eingerahmt. Vor der Vorstellu
 ng erhalten alle Mitglieder eine illustrierte Klubzeitschrift\, deren Lekt
 üre sie auf den jeweiligen Film vorbereitet. Im Kinosaal führen eine int
 eraktive Moderation und eine szenische Einführung die Kinder in den jewei
 ligen Film ein.\n\nBei der Zauberlaterne teilen die Kinder die grossen Kin
 ogefühle mit ihren Kameraden und entwickeln zusammen ihren kritischen Sin
 n. Die Filmvorführungen finden ohne Eltern statt\, die Kinder werden jedo
 ch von Helfern betreut. Die Zauberlaterne bietet jährlich ein neues Filmp
 rogramm mit den besten Kinofilmen der Filmgeschichte.\n
GEO:47.056906;8.311084
LAST-MODIFIED:20250728T051745Z
LOCATION:Bourbaki Kino\, Löwenpl. 11\, 6004 Luzern
URL:https://www.ebikon.ch/event/filmclub-fuer-6-bis-12-jaehrige-die-zauber
 laterne-1-2025-09-13
END:VEVENT
BEGIN:VEVENT
SUMMARY:Filmclub für 6- bis 12-jährige - Die Zauberlaterne
DTSTART:20251122T090000Z
DTEND:20251122T100000Z
DTSTAMP:20250728T051745Z
UID:filmclub-fuer-6-bis-12-jaehrige-die-zauberlaterne-1-2025-11-22@onegov.
 event
CATEGORIES:Art,Misc,Youth,Cinema,Culture
DESCRIPTION:Jedes Jahr bietet die Zauberlaterne Kindern von 6 bis 12 Jahre
 n ein neues Programm von neun Filmen zu einem erschwinglichen Preis. Die V
 orführungen werden spielerisch pädagogisch eingerahmt. Vor der Vorstellu
 ng erhalten alle Mitglieder eine illustrierte Klubzeitschrift\, deren Lekt
 üre sie auf den jeweiligen Film vorbereitet. Im Kinosaal führen eine int
 eraktive Moderation und eine szenische Einführung die Kinder in den jewei
 ligen Film ein.\n\nBei der Zauberlaterne teilen die Kinder die grossen Kin
 ogefühle mit ihren Kameraden und entwickeln zusammen ihren kritischen Sin
 n. Die Filmvorführungen finden ohne Eltern statt\, die Kinder werden jedo
 ch von Helfern betreut. Die Zauberlaterne bietet jährlich ein neues Filmp
 rogramm mit den besten Kinofilmen der Filmgeschichte.\n
GEO:47.056906;8.311084
LAST-MODIFIED:20250728T051745Z
LOCATION:Bourbaki Kino\, Löwenpl. 11\, 6004 Luzern
URL:https://www.ebikon.ch/event/filmclub-fuer-6-bis-12-jaehrige-die-zauber
 laterne-1-2025-09-13
END:VEVENT
BEGIN:VEVENT
SUMMARY:Filmclub für 6- bis 12-jährige - Die Zauberlaterne
DTSTART:20260117T090000Z
DTEND:20260117T100000Z
DTSTAMP:20250728T051745Z
UID:filmclub-fuer-6-bis-12-jaehrige-die-zauberlaterne-1-2026-01-17@onegov.
 event
CATEGORIES:Art,Misc,Youth,Cinema,Culture
DESCRIPTION:Jedes Jahr bietet die Zauberlaterne Kindern von 6 bis 12 Jahre
 n ein neues Programm von neun Filmen zu einem erschwinglichen Preis. Die V
 orführungen werden spielerisch pädagogisch eingerahmt. Vor der Vorstellu
 ng erhalten alle Mitglieder eine illustrierte Klubzeitschrift\, deren Lekt
 üre sie auf den jeweiligen Film vorbereitet. Im Kinosaal führen eine int
 eraktive Moderation und eine szenische Einführung die Kinder in den jewei
 ligen Film ein.\n\nBei der Zauberlaterne teilen die Kinder die grossen Kin
 ogefühle mit ihren Kameraden und entwickeln zusammen ihren kritischen Sin
 n. Die Filmvorführungen finden ohne Eltern statt\, die Kinder werden jedo
 ch von Helfern betreut. Die Zauberlaterne bietet jährlich ein neues Filmp
 rogramm mit den besten Kinofilmen der Filmgeschichte.\n
GEO:47.056906;8.311084
LAST-MODIFIED:20250728T051745Z
LOCATION:Bourbaki Kino\, Löwenpl. 11\, 6004 Luzern
URL:https://www.ebikon.ch/event/filmclub-fuer-6-bis-12-jaehrige-die-zauber
 laterne-1-2025-09-13
END:VEVENT
BEGIN:VEVENT
SUMMARY:Filmclub für 6- bis 12-jährige - Die Zauberlaterne
DTSTART:20260228T090000Z
DTEND:20260228T100000Z
DTSTAMP:20250728T051745Z
UID:filmclub-fuer-6-bis-12-jaehrige-die-zauberlaterne-1-2026-02-28@onegov.
 event
CATEGORIES:Art,Misc,Youth,Cinema,Culture
DESCRIPTION:Jedes Jahr bietet die Zauberlaterne Kindern von 6 bis 12 Jahre
 n ein neues Programm von neun Filmen zu einem erschwinglichen Preis. Die V
 orführungen werden spielerisch pädagogisch eingerahmt. Vor der Vorstellu
 ng erhalten alle Mitglieder eine illustrierte Klubzeitschrift\, deren Lekt
 üre sie auf den jeweiligen Film vorbereitet. Im Kinosaal führen eine int
 eraktive Moderation und eine szenische Einführung die Kinder in den jewei
 ligen Film ein.\n\nBei der Zauberlaterne teilen die Kinder die grossen Kin
 ogefühle mit ihren Kameraden und entwickeln zusammen ihren kritischen Sin
 n. Die Filmvorführungen finden ohne Eltern statt\, die Kinder werden jedo
 ch von Helfern betreut. Die Zauberlaterne bietet jährlich ein neues Filmp
 rogramm mit den besten Kinofilmen der Filmgeschichte.\n
GEO:47.056906;8.311084
LAST-MODIFIED:20250728T051745Z
LOCATION:Bourbaki Kino\, Löwenpl. 11\, 6004 Luzern
URL:https://www.ebikon.ch/event/filmclub-fuer-6-bis-12-jaehrige-die-zauber
 laterne-1-2025-09-13
END:VEVENT
BEGIN:VEVENT
SUMMARY:Filmclub für 6- bis 12-jährige - Die Zauberlaterne
DTSTART:20260328T090000Z
DTEND:20260328T100000Z
DTSTAMP:20250728T051745Z
UID:filmclub-fuer-6-bis-12-jaehrige-die-zauberlaterne-1-2026-03-28@onegov.
 event
CATEGORIES:Art,Misc,Youth,Cinema,Culture
DESCRIPTION:Jedes Jahr bietet die Zauberlaterne Kindern von 6 bis 12 Jahre
 n ein neues Programm von neun Filmen zu einem erschwinglichen Preis. Die V
 orführungen werden spielerisch pädagogisch eingerahmt. Vor der Vorstellu
 ng erhalten alle Mitglieder eine illustrierte Klubzeitschrift\, deren Lekt
 üre sie auf den jeweiligen Film vorbereitet. Im Kinosaal führen eine int
 eraktive Moderation und eine szenische Einführung die Kinder in den jewei
 ligen Film ein.\n\nBei der Zauberlaterne teilen die Kinder die grossen Kin
 ogefühle mit ihren Kameraden und entwickeln zusammen ihren kritischen Sin
 n. Die Filmvorführungen finden ohne Eltern statt\, die Kinder werden jedo
 ch von Helfern betreut. Die Zauberlaterne bietet jährlich ein neues Filmp
 rogramm mit den besten Kinofilmen der Filmgeschichte.\n
GEO:47.056906;8.311084
LAST-MODIFIED:20250728T051745Z
LOCATION:Bourbaki Kino\, Löwenpl. 11\, 6004 Luzern
URL:https://www.ebikon.ch/event/filmclub-fuer-6-bis-12-jaehrige-die-zauber
 laterne-1-2025-09-13
END:VEVENT
BEGIN:VEVENT
SUMMARY:Filmclub für 6- bis 12-jährige - Die Zauberlaterne
DTSTART:20260425T080000Z
DTEND:20260425T090000Z
DTSTAMP:20250728T051745Z
UID:filmclub-fuer-6-bis-12-jaehrige-die-zauberlaterne-1-2026-04-25@onegov.
 event
CATEGORIES:Art,Misc,Youth,Cinema,Culture
DESCRIPTION:Jedes Jahr bietet die Zauberlaterne Kindern von 6 bis 12 Jahre
 n ein neues Programm von neun Filmen zu einem erschwinglichen Preis. Die V
 orführungen werden spielerisch pädagogisch eingerahmt. Vor der Vorstellu
 ng erhalten alle Mitglieder eine illustrierte Klubzeitschrift\, deren Lekt
 üre sie auf den jeweiligen Film vorbereitet. Im Kinosaal führen eine int
 eraktive Moderation und eine szenische Einführung die Kinder in den jewei
 ligen Film ein.\n\nBei der Zauberlaterne teilen die Kinder die grossen Kin
 ogefühle mit ihren Kameraden und entwickeln zusammen ihren kritischen Sin
 n. Die Filmvorführungen finden ohne Eltern statt\, die Kinder werden jedo
 ch von Helfern betreut. Die Zauberlaterne bietet jährlich ein neues Filmp
 rogramm mit den besten Kinofilmen der Filmgeschichte.\n
GEO:47.056906;8.311084
LAST-MODIFIED:20250728T051745Z
LOCATION:Bourbaki Kino\, Löwenpl. 11\, 6004 Luzern
URL:https://www.ebikon.ch/event/filmclub-fuer-6-bis-12-jaehrige-die-zauber
 laterne-1-2025-09-13
END:VEVENT
BEGIN:VEVENT
SUMMARY:Filmclub für 6- bis 12-jährige - Die Zauberlaterne
DTSTART:20260509T080000Z
DTEND:20260509T090000Z
DTSTAMP:20250728T051745Z
UID:filmclub-fuer-6-bis-12-jaehrige-die-zauberlaterne-1-2026-05-09@onegov.
 event
CATEGORIES:Art,Misc,Youth,Cinema,Culture
DESCRIPTION:Jedes Jahr bietet die Zauberlaterne Kindern von 6 bis 12 Jahre
 n ein neues Programm von neun Filmen zu einem erschwinglichen Preis. Die V
 orführungen werden spielerisch pädagogisch eingerahmt. Vor der Vorstellu
 ng erhalten alle Mitglieder eine illustrierte Klubzeitschrift\, deren Lekt
 üre sie auf den jeweiligen Film vorbereitet. Im Kinosaal führen eine int
 eraktive Moderation und eine szenische Einführung die Kinder in den jewei
 ligen Film ein.\n\nBei der Zauberlaterne teilen die Kinder die grossen Kin
 ogefühle mit ihren Kameraden und entwickeln zusammen ihren kritischen Sin
 n. Die Filmvorführungen finden ohne Eltern statt\, die Kinder werden jedo
 ch von Helfern betreut. Die Zauberlaterne bietet jährlich ein neues Filmp
 rogramm mit den besten Kinofilmen der Filmgeschichte.\n
GEO:47.056906;8.311084
LAST-MODIFIED:20250728T051745Z
LOCATION:Bourbaki Kino\, Löwenpl. 11\, 6004 Luzern
URL:https://www.ebikon.ch/event/filmclub-fuer-6-bis-12-jaehrige-die-zauber
 laterne-1-2025-09-13
END:VEVENT
BEGIN:VEVENT
SUMMARY:Filmclub für 6- bis 12-jährige - Die Zauberlaterne
DTSTART:20260613T080000Z
DTEND:20260613T090000Z
DTSTAMP:20250728T051745Z
UID:filmclub-fuer-6-bis-12-jaehrige-die-zauberlaterne-1-2026-06-13@onegov.
 event
CATEGORIES:Art,Misc,Youth,Cinema,Culture
DESCRIPTION:Jedes Jahr bietet die Zauberlaterne Kindern von 6 bis 12 Jahre
 n ein neues Programm von neun Filmen zu einem erschwinglichen Preis. Die V
 orführungen werden spielerisch pädagogisch eingerahmt. Vor der Vorstellu
 ng erhalten alle Mitglieder eine illustrierte Klubzeitschrift\, deren Lekt
 üre sie auf den jeweiligen Film vorbereitet. Im Kinosaal führen eine int
 eraktive Moderation und eine szenische Einführung die Kinder in den jewei
 ligen Film ein.\n\nBei der Zauberlaterne teilen die Kinder die grossen Kin
 ogefühle mit ihren Kameraden und entwickeln zusammen ihren kritischen Sin
 n. Die Filmvorführungen finden ohne Eltern statt\, die Kinder werden jedo
 ch von Helfern betreut. Die Zauberlaterne bietet jährlich ein neues Filmp
 rogramm mit den besten Kinofilmen der Filmgeschichte.\n
GEO:47.056906;8.311084
LAST-MODIFIED:20250728T051745Z
LOCATION:Bourbaki Kino\, Löwenpl. 11\, 6004 Luzern
URL:https://www.ebikon.ch/event/filmclub-fuer-6-bis-12-jaehrige-die-zauber
 laterne-1-2025-09-13
END:VEVENT
END:VCALENDAR
