BEGIN:VCALENDAR
VERSION:2.0
PRODID:-//OneGov//onegov.event//
BEGIN:VEVENT
SUMMARY:ÄBIKE HELFT SUPPENTREFF
DTSTART:20220126T100000Z
DTEND:20220126T130000Z
DTSTAMP:20220104T092644Z
UID:abike-helft-suppentreff-2022-01-26@onegov.event
CATEGORIES:Meetup,Gastronomy
DESCRIPTION:jenen Mittwoch von 11.00 und 14.00 Uhr bis Ende März!\n\nImme
 r mehr Menschen leben auch in Ebikon am Existenzminimum.\nDies betrifft ä
 ltere Personen\, Alleinstehende und Familien.\nDas Angebot an Mehrgenerati
 onenplätzen und Treffpunkten ist kaum vorhanden.\nWir haben immer mehr Le
 ute in Ebikon\, die sehr einsam sind und sozial verarmen.\nMit dem «Äbik
 e helft Suppentreff» wollen wir dieser Problematik entgegenwirken\n\nDer 
 «Äbike helft Suppentreff» hat jeden Mittwoch\nvom 3. November bis Ende 
 März im Sprötzehüsli Ebikon die Türen offen.\nZwischen 11.00 und 14.00
  Uhr wird für alle eine warme Mahlzeit serviert.\nDie Mahlzeit soll einfa
 ch sein – eine Suppe und Brot –\nhergestellt aus nicht mehr verkaufbar
 en Zutaten der Supermärkte\nund anderer Lebensmittelgeschäfte aus der Re
 gion.
GEO:47.0808882499819;8.339003918806034
LAST-MODIFIED:20220104T092644Z
LOCATION:Sprötzehüsli Ebikon
URL:https://www.ebikon.ch/event/abike-helft-suppentreff-2022-01-26
END:VEVENT
END:VCALENDAR
