BEGIN:VCALENDAR
VERSION:2.0
PRODID:-//OneGov//onegov.event//
BEGIN:VEVENT
SUMMARY:Einladung zum ElternCafé...
DTSTART:20260423T170000Z
DTEND:20260423T190000Z
DTSTAMP:20260416T150914Z
UID:einladung-zum-elterncafe-1-2026-04-23@onegov.event
CATEGORIES:Talk,Youth,Meetup,Education
DESCRIPTION:EINLADUNG zum ElternCafé vom 23.04.26\n19.00 bis 21.00 Uhr im
  Jugendhaus Phönix\n\nFür Eltern von Schüler*innen der Sekundarschule W
 ydenhof und der\n6. Primarschule Ebikon\n\nThema: Ablösung und Vertrauen\
 n\nEva Amato\, Schulsozialarbeiterin der Sekundarschule Wydenhof\,\nbehand
 elt die Themen „Ablösungsprozess und Vertrauen in die\neigenen Kinder
 “. Sie freut sich auf einen spannenden Austausch mit\nallen Teilnehmende
 n.\n\nNutzen Sie die Gelegenheit professionell informiert zu werden und\nm
 iteinander ins Gespräch zu kommen.\n\nWir freuen uns auf Sie\n\nElternFor
 um Wydenhof\nMail: elternforum.wydenhof@schule-ebikon.ch
GEO:47.080274;8.337525
LAST-MODIFIED:20260416T150914Z
LOCATION:Jugendhaus Phönix\, Lindenhof Ekikon 
URL:https://www.ebikon.ch/event/einladung-zum-elterncafe-1-2026-04-23
END:VEVENT
END:VCALENDAR
