BEGIN:VCALENDAR
VERSION:2.0
PRODID:-//OneGov//onegov.event//
BEGIN:VEVENT
SUMMARY:EINLADUNG zum ElternCafé
DTSTART:20260423T170000Z
DTEND:20260423T190000Z
DTSTAMP:20260416T150725Z
UID:einladung-zum-elterncafe-2-2026-04-23@onegov.event
CATEGORIES:Talk
DESCRIPTION:EINLADUNG zum ElternCafé vom 23.04.26\n19.00 bis 21.00 Uhr im
  Jugendhaus Phönix\n\nFür Eltern von Schüler*innen der Sekundarschule
  Wydenhofund der6. Primarschule Ebikon\n\nThema: Ablösung und Vertrauen\n
 \nEva Amato\, Schulsozialarbeiterin der Sekundarschule Wydenhof\, behandel
 t die Themen „Ablösungsprozess und Vertrauen in die eigenen Kinder“. 
 Sie freut sich auf einen spannenden Austausch mit allen Teilnehmenden.\n\n
 Nutzen Sie die Gelegenheit professionell informiert zu werden und miteinan
 der ins Gespräch zu kommen.
LAST-MODIFIED:20260416T150725Z
LOCATION:Jugendhaus Phönix
URL:https://www.ebikon.ch/event/einladung-zum-elterncafe-2-2026-04-23
END:VEVENT
END:VCALENDAR
