BEGIN:VCALENDAR
VERSION:2.0
PRODID:-//OneGov//onegov.event//
BEGIN:VEVENT
SUMMARY:Estermann\, Jerjen & Woll feat. Daniel Schenker – Miles Davis
DTSTART:20260521T181500Z
DTEND:20260521T200000Z
DTSTAMP:20260409T063737Z
UID:estermann-jerjen-woll-feat-daniel-schenker-miles-davis-2026-05-21@oneg
 ov.event
CATEGORIES:Art,Misc,Music,Concert,Culture
DESCRIPTION:«Blue Moon» ist eine Konzertreihe der Kultursonne mit Musike
 r:innen aus der nationalen und internationalen Jazzszene in einem sehr per
 sönlichen Ambiente. Initiiert wurde diese Reihe auf Herbst 2023 mit dem h
 ochkarätigen Luzerner Jazztrio Peter Estermann (Piano)\, Rafael Jerjen (B
 ass) und Raphael Woll (Schlagzeug). Bei jederm Konzert ergänzt eine Gastm
 usikerin oder ein Gastmusiker das virtuose Trio. Diesmal der Trompeter Dan
 iel Schenker. Daniel Schenker ist ein begnadeter Jazztrompeter und Flügel
 hornist\, er spielt und komponiert u.a. für sein sein eigenes Quartett un
 d sit seit 2014 Co-Leiter des Zurich Jazz Orchestras. Im exklusiven Quarte
 tt mit Estermann\, Jerjen und Woll präsentiert Daniel Schenker Songs aus 
 dem Repertoir von Miles Davis\, der am 26. Mai 100 Jahre alt geworden wär
 e. Der 1991 verstorbenen Miles Davis wirkte als Jazztrompeter\, Komponist 
 und Bandleader und gilt als eine der prägendsten Figuren der Jazzgeschich
 te. 
GEO:47.082311;8.341002
LAST-MODIFIED:20260409T063737Z
LOCATION:Kultursonne\, Dorfstrasse 23\, 60303 Ebikon
URL:https://www.ebikon.ch/event/estermann-jerjen-woll-feat-daniel-schenker
 -miles-davis-2026-05-21
END:VEVENT
END:VCALENDAR
