BEGIN:VCALENDAR
VERSION:2.0
PRODID:-//OneGov//onegov.event//
BEGIN:VEVENT
SUMMARY:FrauenNetzTreffBar
DTSTART:20260506T150000Z
DTEND:20260506T180000Z
DTSTAMP:20260414T112505Z
UID:frauennetztreffbar-2026-05-06@onegov.event
CATEGORIES:Meetup
DESCRIPTION:Die Eventgruppe FrauenNetz bieten am Mittwoch\, 6. Mai 2026 wi
 eder die Gelegenheit zum unkomplizierten Treffen\, fröhlichen Schwatzen\,
  Zuhören\, sich austauschen in der DecoBar 1414.\nWir freuen uns über al
 le Teilnehmerinnen und Teilnehmer. Es ist keine Anmeldung nötig\, einfach
  spontan vorbeikommen.\n
LAST-MODIFIED:20260414T112505Z
LOCATION:DecoBar 1414\, Bahnhofstrasse 4\, 6030 Ebikon
URL:https://www.ebikon.ch/event/frauennetztreffbar-2026-05-06
END:VEVENT
END:VCALENDAR
