BEGIN:VCALENDAR
VERSION:2.0
PRODID:-//OneGov//onegov.event//
BEGIN:VEVENT
SUMMARY:Gemeinderat Sprechstunde: Hans Peter Bienz
DTSTART:20260312T153000Z
DTEND:20260312T170000Z
DTSTAMP:20251030T132349Z
UID:gemeinderat-sprechstunde-hans-peter-bienz-1-2026-03-12@onegov.event
CATEGORIES:Politics
DESCRIPTION:Haben Sie als Bürgerin oder Bürger Anliegen\, Fragen\, Ideen
  oder Rückmeldungen\, die Sie mit dem Gemeinderat besprechen wollen? Die 
 Sprechstunde mit dem Gemeinderat ist genau dafür da.\n\nBitte über das v
 erlinkte Formular anmelden. Die Sprechstunde findet nur statt\, sofern ein
 e Anmeldung vorliegt.\n
LAST-MODIFIED:20251030T132349Z
LOCATION:Gemeindeverwaltung\, Riedmattstrasse 14\, 6030 Ebikon
URL:https://www.ebikon.ch/event/gemeinderat-sprechstunde-hans-peter-bienz-
 1-2026-03-12
END:VEVENT
END:VCALENDAR
