BEGIN:VCALENDAR
VERSION:2.0
PRODID:-//OneGov//onegov.event//
BEGIN:VEVENT
SUMMARY:Harfenorchester Arpa Doro Ebikon  -  Weihnachtskonzert
DTSTART:20241208T160000Z
DTEND:20241208T170000Z
DTSTAMP:20241023T112156Z
UID:harfenorchester-arpa-doro-ebikon-weihnachtskonzert-2024-12-08@onegov.e
 vent
CATEGORIES:Concert
DESCRIPTION:Wunderschöne Harfenklänge\, begleitet von Violine\, Cello\, 
 Kontrabass\, Flöte\, Saxophon\, Klarinette\, Gitarre und Gesang. 14 Harfe
 nspielerinnen und 8 InstrumentalistInnen spielen für sie Filmmelodien wie
  Memory\, Beauty and the Beast\, Somewhere over the Rainbow und viele ande
 re.\n\nEntspannen Sie sich vom hektischen Alltag. Lassen Sie sich durch un
 sere Musik die Weihnachtszeit verschönern. Eintritt ist frei. Türkollekt
 e.\n\nDas Harfenorchester spielt unter der Leitung von Hana Vihan.\nwww.ar
 padoro.ch\n\nSamstag\, 07.12.2024\, 18:30 Uhr  Kath. Kirche Bruder Klaus\,
  Kriens\nSonntag\, 08.12.2024\, 17:00 Uhr  Pfarrkirche St. Maria\, Ebikon\
 n
LAST-MODIFIED:20241023T112156Z
LOCATION:Pfarrkirche St. Maria Ebikon
URL:https://www.ebikon.ch/event/harfenorchester-arpa-doro-ebikon-weihnacht
 skonzert-2024-12-08
END:VEVENT
END:VCALENDAR
