BEGIN:VCALENDAR
VERSION:2.0
PRODID:-//OneGov//onegov.event//
BEGIN:VEVENT
SUMMARY:King Pepe & Max Usata
DTSTART:20240920T181500Z
DTEND:20240920T200000Z
DTSTAMP:20240905T063849Z
UID:king-pepe-max-usata-2024-09-20@onegov.event
CATEGORIES:Art,Misc,Music,Meetup,Concert,Culture
DESCRIPTION:Simon Hari aka King Pepe experientierte schon mit einigen Musi
 kstilen\, wie Pop\, Jazz oder Alternative. Ganz nach seinem Motto «Ich bi
 n der King\, ich mach\, was ich will»\, entscheidet er immer selbst\, wie
  und mit wem er seine nächste Platte aufnehmen will. Für sein erstes A
 lbum «Blöd im Chopf» richtete er sich in seiner Küche so ein\, dass 
 er auf eigene Faust produzieren konnte. Max Usata ist Sänger von Puts Mar
 ie\, einer impressionistischen Bieler Band\, die mit ihren Songs Bilder vo
 ller vieldeutiger Emotionen wiedergeben. Die mit einem Einfallsreichtum\, 
 welche den Kompositionen nie zuwiderläuft\, Musik von verstörender körp
 erlicher Kraft präsentieren. Da haben sich nun also zwei Persönlichkeite
 n gefunden! King Pepe singt sein Liedgut über ca. dreieinhalb Oktaven ode
 r mehr. Max Usata begleitet trommlerisch\, keyboarderisch und natürlich s
 timmlich! Es gibt Lieder über weltbewegende und nicht-weltbewegende Theme
 n in berndeutscher Sprache. Und genügend Raum für Improvisation.
GEO:47.08234;8.341055
LAST-MODIFIED:20240905T063849Z
LOCATION:Kultursonne Ebikon
URL:https://www.ebikon.ch/event/king-pepe-max-usata-2024-09-20
END:VEVENT
END:VCALENDAR
