BEGIN:VCALENDAR
VERSION:2.0
PRODID:-//OneGov//onegov.event//
BEGIN:VEVENT
SUMMARY:KUNSTAUSSTELLUNG VERSCHIEBUNG – Kreativität in Bewegung
DTSTART:20260527T070000Z
DTEND:20260527T150000Z
DTSTAMP:20260420T131313Z
UID:kunstausstellung-verschiebung-kreativitaet-in-bewegung-2026-05-27@oneg
 ov.event
CATEGORIES:Art,Culture,Exhibition
DESCRIPTION:Vom Freitag\, 8. Mai bis Freitag\, 7. August 2026 zeigt die Fa
 chklasse Grafik ihre Werke in der Galerie im Kloster Rathausen\, im Dialog
  mit Arbeiten von Künstlerinnen und Künstlern der Stiftung SSBL.\n\nIm M
 ittelpunkt steht das Thema Verschiebungen: Jeder kreative Prozess ist eine
  Folge von Verschiebungen\, von der ersten Idee zur fertigen Form\, vom Ve
 rtrauten ins Unbekannte\, vom Lernen zum eigenen Ausdruck. Werden bedeutet
 \, sich immer wieder neu zu verorten.\n\nWas sich verschiebt\, macht Raum 
 für das\, was entsteht.\n\nGezeigt werden Werke von Gestalterinnen und Ge
 staltern\, die sich mitten in dieser Bewegung befinden\, erste Schritte\, 
 mutige Ansätze\, persönliche Verschiebungen\nim Denken und Machen. Hier 
 begegnen sich junge Talente und etablierte kreative Stimmen. Gemeinsam geb
 en sie Einblick in Wege. Eine Ausstellung über das Wachsen\, das Werden u
 nd die Kraft\, die in jeder Verschiebung liegt.\n\nVernissage\nFreitag\, 8
 . Mai 2026\, 18:00 bis 21:00 Uhr\n18:00 Uhr Ankunft und Apéro. Freie Besi
 chtigung der Kunstausstellung\,\nGespräche mit anwesenden Künstlerinnen 
 und Künstlern.\n18:30 Uhr Begrüssung durch Adrian Müller\, Ausstellungs
 leiter und Thomas Bucher\,\nKurator. Kurzstatements von beteiligten Künst
 lerinnen und Künstler.\n\nFinissage\nFreitag\, 7. August 2026\, 18:00 bis
  21:00 Uhr\n18:00 Uhr Begrüssung und Rückblick durch Adrian Müller\, Au
 sstellungsleiter\nund Thomas Bucher\, Kurator. Intentionen von beteiligten
  Künstlerinnen\nund Künstlern.\n18:30 Uhr Apéro in der Galerie im Klost
 er Rathausen.\n\nÖffnungszeiten: Montag bis Freitag 9 bis 17 Uhr | Samsta
 g und\nSonntag 10 bis 17 Uhr. Am Wochenende sind die Eingangstüren\nzum K
 loster geschlossen. Bitte melden Sie sich bei den Mitarbeitenden\nim Café
  Rathausen.\n\nSSBL GALERIE IM KLOSTER RATHAUSEN\nRathausen 2 | 6032 Emmen
  | T 041 269 35 00 | info@ssbl.ch
GEO:47.081598;8.307756
LAST-MODIFIED:20260420T131313Z
LOCATION:Rathausen 2\, 6032 Emmen
URL:https://www.ebikon.ch/event/kunstausstellung-verschiebung-kreativitaet
 -in-bewegung-2026-05-27
END:VEVENT
END:VCALENDAR
