BEGIN:VCALENDAR
VERSION:2.0
PRODID:-//OneGov//onegov.event//
BEGIN:VEVENT
SUMMARY:Offene Probe Kindertrachtengruppe 
DTSTART:20250328T153000Z
DTEND:20250328T163000Z
DTSTAMP:20250319T130357Z
UID:offene-probe-kindertrachtengruppe-2025-03-28@onegov.event
CATEGORIES:Misc,Music,Dancing,Tradition
DESCRIPTION:Hast du Freude am Tanzen und Singen?\n\nMädchen und Knaben ab
  5 Jahren sind herzlich willkommen!\n\nKomm\, schau zu oder mach mit!\n\nJ
 eden 2. Freitagnachmittag proben wir im Schulhaus Feldmatt (Aula) von 16.3
 0 bis 17.30 Uhr\n\nAn verschiedenen Anlässen dürfen wir auftreten.\nTrac
 htenkleider können bei der Trachtengruppe günstig gemietet werden\n\nWir
  freuen uns auf dich!\n\nKindertrachtengruppe Ebikon\n
LAST-MODIFIED:20250319T130357Z
LOCATION:Schulhaus Feldmatt (Aula)
URL:https://www.ebikon.ch/event/offene-probe-kindertrachtengruppe-2025-03-
 28
END:VEVENT
END:VCALENDAR
