BEGIN:VCALENDAR
VERSION:2.0
PRODID:-//OneGov//onegov.event//
BEGIN:VEVENT
SUMMARY:Oktoberfest Äbike 2025
DTSTART:20251011T120000Z
DTEND:20251011T220000Z
DTSTAMP:20250814T052145Z
UID:oktoberfest-abike-2025-2025-10-11@onegov.event
CATEGORIES:Party,Concert,Tradition,Gastronomy
DESCRIPTION:“Mia san keine Bayern!“ Aber: Oktoberfest können wir auch
 .\nUnd das in Perfektion! Denn am 11. Oktober 2025 heisst’s wieder: O’
 zapft is in Ebikon!\n\n\n
GEO:47.079841;8.340743
LAST-MODIFIED:20250814T052145Z
LOCATION:Wydenhof Schulhaus\, 6030 Ebikon
URL:https://www.ebikon.ch/event/oktoberfest-abike-2025-2025-10-11
END:VEVENT
END:VCALENDAR
