BEGIN:VCALENDAR
VERSION:2.0
PRODID:-//OneGov//onegov.event//
BEGIN:VEVENT
SUMMARY:Paterlada per romontschs
DTSTART:20260528T113000Z
DTEND:20260528T140000Z
DTSTAMP:20260326T154427Z
UID:paterlada-per-romontschs-2026-05-28@onegov.event
CATEGORIES:Meetup
DESCRIPTION:Nus romontschs sentupein mintgamei la davosa gievgia d`il\nmei
 ns per emprender d’nconuscher\, paterlar e passentar temps cumineivel.\n
 Tgi che ha gust da separticipar ei cordialmein beinvegni!\n\nGeschätzte 
 «romanisch» sprechende! \nWir «romontschs» treffen uns jeweils am letz
 ten Donnerstag im Monat um uns kennenzulernen\, Gespräche zu führen und 
 gemeinsam Zeit zu verbringen.
GEO:47.082463604490876;8.34207315167507
LAST-MODIFIED:20260326T154427Z
LOCATION:Luna\, Zentralstrasse 11\, 6030 Ebikon
URL:https://www.ebikon.ch/event/paterlada-per-romontschs-2026-05-28
END:VEVENT
END:VCALENDAR
