BEGIN:VCALENDAR
VERSION:2.0
PRODID:-//OneGov//onegov.event//
BEGIN:VEVENT
SUMMARY:Rontaler Tischtennis Rundlauf Cup
DTSTART:20260228T090000Z
DTEND:20260228T143000Z
DTSTAMP:20260127T091012Z
UID:rontaler-tischtennis-rundlauf-cup-1-2026-02-28@onegov.event
CATEGORIES:Sports
DESCRIPTION:Titel / Aufruf:\nWir suchen einen Champion im Mall-Tischtennis
 !\nOffenes Turnier für Hobbyspielerinnen und Hobbyspieler\, Jugendliche u
 nd Erwachsene. Auch ohne Vereinslizenz.\n\nAnlass:\nRontaler Tischtennis-R
 undlauf-Cup\nBreitensportwettbewerb im klassischen Rundlauf-Modus.\n\nDatu
 m:\nSamstag\, 28. Februar 2026\n\nOrt:\nMall of Switzerland\, OG 1\nEbisqu
 are-Strasse 1\, 6030 Ebikon\n\nZeit:\nAnmeldung: 30 Minuten vor Turniersta
 rt\nBeginn: 10.00 Uhr\nEnde: ca. 15.30 Uhr\n\nTeilnahme:\nFür alle Tischt
 ennisbegeisterten\, jung und alt\, mit oder ohne Erfahrung.\nKeine Lizenz 
 erforderlich.\n\nTurnierform:\nKlassischer Rundlauf\nSpass\, Bewegung und 
 fairer Wettkampf stehen im Vordergrund.\n\nPreise:\nTolle Preise für die 
 Plätze 1 bis 3\nGutscheine im Wert von 25\, 75 und 50 Franken\n\nOrganisa
 tion / Kontakt:\nTTC Dierikon-Ebikon\nTurnierleitung: Janis Juri Herold\nA
 nmeldung über QR-Code oder Homepage
LAST-MODIFIED:20260127T091012Z
LOCATION:Mall of Switzerland\, OG 1
URL:https://www.ebikon.ch/event/rontaler-tischtennis-rundlauf-cup-1-2026-0
 2-28
END:VEVENT
END:VCALENDAR
