BEGIN:VCALENDAR
VERSION:2.0
PRODID:-//OneGov//onegov.event//
BEGIN:VEVENT
SUMMARY:Second Chance am Rotsee
DTSTART:20260502T090000Z
DTEND:20260502T140000Z
DTSTAMP:20260407T062912Z
UID:second-chance-am-rotsee-2-2026-05-02@onegov.event
CATEGORIES:Misc,Youth,Market,Meetup,Culture,Gastronomy
DESCRIPTION:Second Hand Kleidung für Erwachsene shoppen und das im gemüt
 lichen Ambiente der Rotsee Badi.\n\nKomm und finde deine Lieblingskleidung
 sstücke für den Sommer bei uns!\nSchnapp dir deine Kollegen und lasst eu
 ch in der Rotseebadi von den Leckereien verwöhnen.\n\n\nBei schlechtem We
 tter findet die Veranstaltung nicht statt.\n
GEO:47.073684;8.325017
LAST-MODIFIED:20260407T062912Z
LOCATION:Rotsee Badi\, Rotseeweg 22\, 6030 Ebikon
URL:https://www.ebikon.ch/event/second-chance-am-rotsee-2-2026-05-02
END:VEVENT
END:VCALENDAR
