BEGIN:VCALENDAR
VERSION:2.0
PRODID:-//OneGov//onegov.event//
BEGIN:VEVENT
SUMMARY:Traditioneller Christbaum-Verkauf am Sagi-Teich
DTSTART:20251220T080000Z
DTEND:20251220T170000Z
DTSTAMP:20251107T095947Z
UID:traditioneller-christbaum-verkauf-am-sagi-teich-3-2025-12-20@onegov.ev
 ent
CATEGORIES:Misc,Tradition
DESCRIPTION:Der Jährliche Christbaumverkauf der "Fischer & Freunde des Sa
 gi-Teichs" startet am Wochenende vom Samstag\, 6. Dezember. \n\nDer Wochen
 endverkauf findet folgend statt:\nSa. 6. Dezember und So. 7. Dezember: 9 b
 is 18 Uhr\nSa. 13. Dezember und So. 14. Dezember: 9 bis 18 Uhr\nSa. 20. De
 zember und So. 21. Dezember: 9 bis 18 Uhr\n\nUnter der Woche findet der Ve
 rkauf folgend statt:\nMo. 8. Dezember bis Fr. 12. Dezember: 13 bis 18 Uhr\
 nMo. 15. Dezember bis Fr. 19. Dezember: 13 bis 18 Uhr\nSa. 20. Dezember bi
 s Di. 23. Dezember: 9 bis 18 Uhr\nMi. 24. Dezember: 8 bis 12 Uhr\n\nDie Fi
 scher & Freunde des Sagi-Teichs haben zudem wieder Deko-Äste\, Frischschn
 itt\, schöne Mistelzweige und erneut den feinen ALASKA-Wildlachs im Angeb
 ot.\n\nFür die Erwachsenen gibt es gratis Glühwein und für die Kinder e
 ine kleine Überraschung. Wer Hunger hat\, darf gerne eine Wurst geniessen
  (gedeckter Platz).\n\nLass Dich verzaubern am Sagi-Teich\, der stimmungsv
 olle Ort wo man sich mit Familie\, Freunden und Bekannten in der Adventsze
 it trifft.\n\nWir freuen uns\,  Sie am Teich begrüssen zu dürfen. \nIm N
 amen der Fischer & Freunde des Sagi-Teichs \n\nAndi Bättig \n079 322 72 0
 6 \n
GEO:47.07338036769818;8.336894782418383
LAST-MODIFIED:20251107T095947Z
LOCATION:Mühlehofstrasse\, 6030 Ebikon\, Schweiz
URL:https://www.ebikon.ch/event/traditioneller-christbaum-verkauf-am-sagi-
 teich-3-2025-12-20
END:VEVENT
END:VCALENDAR
