BEGIN:VCALENDAR
VERSION:2.0
PRODID:-//OneGov//onegov.event//
BEGIN:VEVENT
SUMMARY:Ü60 Treff
DTSTART:20251218T130000Z
DTEND:20251218T160000Z
DTSTAMP:20250527T111450Z
UID:u60-treff-3-2025-12-18@onegov.event
CATEGORIES:Meetup,Elderly
DESCRIPTION:Gemütliches Beisammensein\nDer offene Treff lädt zum Austaus
 chen\, Spiele spielen\, Philosophieren\, Stricken... ein. Es gibt Kaffee\,
  Tee und ein Zvieri.\n\nGemeinschaftlich organisiert\nDu bist herzlich Wil
 lkommen\, es braucht keine An- oder Abmeldung. Der Treff wird gemeinschaft
 lich organisiert: Wenn du möchtest und kannst\, bringe dich nach deinen M
 öglichkeiten ein. Dafür gibt es vor Ort Listen zum Eintragen.
GEO:47.080184;8.336915
LAST-MODIFIED:20250527T111450Z
LOCATION:Phönix\, Lindenhof 3\, 6030 Ebikon
URL:https://www.ebikon.ch/event/u60-treff-3-2025-12-18
END:VEVENT
END:VCALENDAR
